BEGIN:VCALENDAR
VERSION:2.0
PRODID:-//Mercer County Fairgrounds - ECPv6.15.11//NONSGML v1.0//EN
CALSCALE:GREGORIAN
METHOD:PUBLISH
X-ORIGINAL-URL:https://mercercountyohiofair.com
X-WR-CALDESC:Events for Mercer County Fairgrounds
REFRESH-INTERVAL;VALUE=DURATION:PT1H
X-Robots-Tag:noindex
X-PUBLISHED-TTL:PT1H
BEGIN:VTIMEZONE
TZID:America/Detroit
BEGIN:DAYLIGHT
TZOFFSETFROM:-0500
TZOFFSETTO:-0400
TZNAME:EDT
DTSTART:20250309T070000
END:DAYLIGHT
BEGIN:STANDARD
TZOFFSETFROM:-0400
TZOFFSETTO:-0500
TZNAME:EST
DTSTART:20251102T060000
END:STANDARD
BEGIN:DAYLIGHT
TZOFFSETFROM:-0500
TZOFFSETTO:-0400
TZNAME:EDT
DTSTART:20260308T070000
END:DAYLIGHT
BEGIN:STANDARD
TZOFFSETFROM:-0400
TZOFFSETTO:-0500
TZNAME:EST
DTSTART:20261101T060000
END:STANDARD
BEGIN:DAYLIGHT
TZOFFSETFROM:-0500
TZOFFSETTO:-0400
TZNAME:EDT
DTSTART:20270314T070000
END:DAYLIGHT
BEGIN:STANDARD
TZOFFSETFROM:-0400
TZOFFSETTO:-0500
TZNAME:EST
DTSTART:20271107T060000
END:STANDARD
END:VTIMEZONE
BEGIN:VEVENT
DTSTART;TZID=America/Detroit:20260321T160000
DTEND;TZID=America/Detroit:20260321T230000
DTSTAMP:20260420T092301
CREATED:20250916T160302Z
LAST-MODIFIED:20250916T160408Z
UID:23895-1774108800-1774134000@mercercountyohiofair.com
SUMMARY:Reverse Raffle
DESCRIPTION:Join us for our annual Reverse Raffle held in Market Hall! Check out the flyer attached for more information. To purchase tickets\, please call us at 419-586-3239.Reverse Raffle Fair Book Ad
URL:https://mercercountyohiofair.com/event/reverse-raffle-5/
LOCATION:Market Hall\, 1001 W Market Street\, Celina\, OH\, 45822\, United States
ORGANIZER;CN="Mercer County Fairgrounds":MAILTO:info@mercercountyohiofair.com
END:VEVENT
END:VCALENDAR